Workbook

Sheet Nhap ao trang
A1: BẢNG KÊ NHẬP ÁO ĐỒNG PHỤC HSSV
A3: Ngày/ Size | B3: TỔNG | C3: Tồn năm trước | D3: 19/6/2017 | E3: 20/6/2017 | F3: 30/6/2017 | G3: 04/7/2017 | H3: 42927 | I3: 42929 | J3: 42929 | K3: 42933 | L3: 42935 | M3: 42936 | N3: 42940 | O3: 42941 | P3: 42942 | Q3: 42943 | R3: 42950 | S3: 8/8/2017 | T3: 8/8/2017 | U3: 42961 | V3: 42962 | W3: 42965 | X3: 42968 | Y3: 42971 | Z3: 42971 | AA3: 42976 | AB3: 01/9/2017 | AC3: 6/9/2017 | AD3: 42989 | AE3: 42990 | AF3: 42991 | AG3: 42996 | AH3: 43000 | AI3: 43004 | AJ3: 43007 | AK3: 43008 | AL3: 43055
A4: Tổng cộng | B4: =B5+B20 -> 10204 | C4: =C5+C20 -> 397 | D4: =D5+D20 -> 774 | E4: =E5+E20 -> 825 | F4: =F5+F20 -> 80 | G4: =G5+G20 -> 591 | H4: =H5+H20 -> 224 | I4: =I5+I20 -> 760 | ... AP4: =AP5+AP20 -> 0
A5: NAM | B5: =SUM(C5:AL5) -> 9149 | C5: 357 | D5: =SUM(D6:D19) -> 774 | E5: =SUM(E6:E19) -> 551 | F5: =SUM(F6:F19) -> 80 | G5: =SUM(G6:G19) -> 561 | H5: =SUM(H6:H19) -> 224 | I5: =SUM(I6:I19) -> 700 | J5: =SUM(J6:J19) -> -11 | K5: =SUM(K6:K19) -> 180 | ... AP5: =SUM(AP6:AP19) -> 0
A6: C3 | B6: =SUM(C6:AL6) -> 923 | D6: =150+100 -> 250 | I6: 150 | J6: -5 | M6: =150+71 -> 221 | N6: =153+63+100 -> 316 | T6: 1 | Z6: -14 | AK6: 4
A7: C3D | B7: =SUM(C7:AL7) -> 1534 | D7: 150 | G7: 100 | L7: 150 | N7: =174+160 -> 334 | O7: 158 | S7: 70 | T7: 3 | X7: 75 | AA7: 60 | AB7: 72 | AC7: 72 | AG7: 69 | AJ7: 80 | AK7: 141
A8: C3D5 | B8: =SUM(C8:AL8) -> 0
A9: C4 | B9: =SUM(C9:AL9) -> 2200 | D9: 150 | E9: 84 | G9: 150 | I9: =150+150 -> 300 | J9: -2 | L9: =34+150 -> 184 | M9: 100 | N9: =134+152 -> 286 | O9: 71 | S9: 76 | T9: 1 | U9: 133 | V9: 133 | AA9: 151 | AB9: 68 | AD9: 81 | AH9: 76 | AI9: 77 | AJ9: =80+1 -> 81
A10: C4N | B10: =SUM(C10:AL10) -> 1 | AJ10: 1
A11: C4D | B11: =SUM(C11:AL11) -> 150 | L11: 74 | N11: 74 | T11: 1 | AI11: 1
A12: C4D5 | B12: =SUM(C12:AL12) -> 148 | D12: 74 | H12: 74
A13: C5 | B13: =SUM(C13:AL13) -> 2055 | E13: =150+150+100 -> 400 | G13: 150 | H13: 150 | I13: =90+10+150 -> 250 | J13: -3 | L13: 66 | M13: 75 | Q13: 54 | R13: 71 | S13: 76 | T13: 1 | U13: 142 | V13: 102 | AA13: 151 | AB13: 68 | AD13: 81 | AF13: 69 | AJ13: 73 | AK13: 81 | AL13: -2
A14: C5D | B14: =SUM(C14:AL14) -> 143 | K14: 142 | T14: 1
A15: C6 | B15: =SUM(C15:AL15) -> 896 | D15: 150 | E15: 67 | G15: 121 | J15: -1 | K15: 38 | P15: 40 | R15: 71 | T15: 3 | U15: 66 | X15: 75 | Y15: 59 | AD15: 61 | AG15: 73 | AI15: 73
A16: C7 | B16: =SUM(C16:AL16) -> 358 | F16: 40 | Q16: 40 | U16: 30 | W16: 35 | AB16: 72 | AD16: 72 | AK16: 69
A17: C8 | B17: =SUM(C17:AL17) -> 205 | F17: 40 | P17: 39 | U17: 30 | W17: 35 | AE17: 60 | AJ17: 1
A18: C9 | B18: =SUM(C18:AL18) -> 109 | G18: 20 | P18: 39 | W18: 30 | AC18: 20
A19: C10 | B19: =SUM(C19:AL19) -> 70 | G19: 20 | W19: 30 | AC19: 20
A20: NỮ | B20: =SUM(C20:AL20) -> 1055 | C20: 40 | D20: =SUM(D21:D29) -> 0 | E20: =SUM(E21:E29) -> 274 | F20: =SUM(F21:F29) -> 0 | G20: =SUM(G21:G29) -> 30 | H20: =SUM(H21:H29) -> 0 | I20: =SUM(I21:I29) -> 60 | J20: =SUM(J21:J29) -> -5 | K20: =SUM(K21:K29) -> 125 | ... AP20: =SUM(AP21:AP29) -> 0
A21: C2 | B21: =SUM(C21:AL21) -> 94 | J21: -1 | K21: 65 | T21: 1 | W21: 26 | AJ21: 3
A22: C2D | B22: =SUM(C22:AL22) -> 133 | K22: 60 | N22: 60 | Z22: -8 | AF22: 20 | AJ22: 3 | AL22: -2
A23: C3 | B23: =SUM(C23:AL23) -> 172 | E23: 29 | J23: -4 | L23: 92 | T23: 4 | W23: 28 | AE23: 23
A24: C3D | B24: =SUM(C24:AL24) -> 192 | E24: 159 | W24: 2 | AJ24: 33 | AL24: -2
A25: C3H | B25: =SUM(C25:AL25) -> 137 | E25: 43 | L25: 30 | P25: 40 | AE25: 23 | AJ25: 1
A26: C3HD | B26: =SUM(C26:AL26) -> 73 | E26: 43 | AJ26: 30
A27: C4 | B27: =SUM(C27:AL27) -> 134 | I27: 60 | L27: 30 | W27: 22 | AF27: 20 | AJ27: 2
A28: C4D | B28: =SUM(C28:AL28) -> 30 | AJ28: 30
A29: C5 | B29: =SUM(C29:AL29) -> 50 | G29: 30 | W29: 20

Sheet TD C Thuận
A1: BẢNG KÊ NHẬP ĐỒNG PHỤC THỂ DỤC HSSV
A3: Ngày/ Size | B3: TỔNG | C3: Tồn
A4: Tổng cộng | B4: =SUM(B5:B12) -> 195 | C4: =SUM(C5:C12) -> 195 | D4: =D5+D8+D10 -> 195
A5: S | B5: =SUM(C5:C5) -> 50 | C5: 50 | D5: =B5+B6+B7 -> 50
A6: M | B6: =SUM(C6:C6) -> 0
A7: L | B7: =SUM(C7:C7) -> 0
A8: XL | B8: =SUM(C8:C8) -> 0 | D8: =B8+B9 -> 48
A9: 2XL | B9: =SUM(C9:C9) -> 48 | C9: 48
A10: 3XL | B10: =SUM(C10:C10) -> 97 | C10: 97 | D10: =B10+B11+B12 -> 97
A11: 4XL | B11: =SUM(C11:C11) -> 0
A12: 5XL | B12: =SUM(C12:C12) -> 0

Sheet TD C Hoàng
A1: BẢNG KÊ NHẬP ĐỒNG PHỤC THỂ DỤC HSSV
A3: Ngày/ Size | B3: TỔNG | C3: 42927 | D3: 42936 | E3: 42940 | F3: 42942 | G3: 42943 | H3: 42944 | I3: 42947 | J3: 42961 | K3: 42962 | L3: 42962 | M3: 42968 | N3: 42971 | O3: 42971 | P3: 42984 | Q3: 42990 | R3: 42998 | S3: 43004 | T3: 43008 | U3: 02/10/2017 | V3: 43017 | W3: 43022 | X3: 43034
A4: Tổng cộng | B4: =SUM(B5:B12) -> 4364 | C4: =SUM(C5:C12) -> 1333 | D4: =SUM(D5:D12) -> 180 | E4: =SUM(E5:E12) -> 180 | F4: =SUM(F5:F12) -> 40 | G4: =SUM(G5:G12) -> 118 | H4: =SUM(H5:H12) -> 44 | I4: =SUM(I5:I12) -> 178 | ... AA4: =SUM(AA5:AA12) -> 0 | AB4: =AB5+AB8+AB10 -> 4364
A5: S | B5: =SUM(C5:AA5) -> 620 | C5: 67 | D5: 70 | I5: 48 | J5: 9 | K5: 60 | M5: 7 | N5: 50 | P5: 43 | Q5: 80 | U5: 60 | W5: 53 | X5: 73 | AB5: =B5+B6+B7 -> 2280
A6: M | B6: =SUM(C6:AA6) -> 840 | C6: =180+60 -> 240 | E6: =70+20+3 -> 93 | G6: 11 | I6: 44 | J6: 14 | K6: 60 | M6: 9 | N6: 50 | O6: -3 | P6: 97 | S6: 5 | U6: 99 | W6: 51 | X6: 70
A7: L | B7: =SUM(C7:AA7) -> 820 | C7: =233+40 -> 273 | E7: =70+17 -> 87 | I7: 43 | J7: 15 | K7: 60 | M7: 24 | N7: 50 | O7: -6 | P7: 50 | Q7: 60 | R7: 80 | U7: 6 | W7: 52 | X7: 26
A8: XL | B8: =SUM(C8:AA8) -> 994 | C8: 360 | D8: 40 | G8: 107 | I8: 43 | J8: 16 | K8: 60 | L8: 7 | M8: 5 | N8: 100 | O8: -3 | Q8: =40+90 -> 130 | U8: =10+30 -> 40 | W8: 48 | X8: 41 | AB8: =B8+B9 -> 1571
A9: 2XL | B9: =SUM(C9:AA9) -> 577 | C9: 260 | D9: 70 | F9: 40 | N9: 97 | Q9: =50+20 -> 70 | R9: 10 | V9: 30
A10: 3XL | B10: =SUM(C10:AA10) -> 259 | C10: 133 | L10: 16 | N10: 50 | O10: -1 | Q10: =10+10 -> 20 | T10: 41 | AB10: =B10+B11+B12 -> 513
A11: 4XL | B11: =SUM(C11:AA11) -> 144 | H11: 22 | J11: 8 | K11: 15 | N11: 50 | T11: 49
A12: 5XL | B12: =SUM(C12:AA12) -> 110 | H12: 22 | J12: 8 | K12: 30 | N12: 50

Sheet Ao xanh
A1: BẢNG KÊ NHẬP ĐỒNG PHỤC BẢO HỘ LAO ĐỘNG HSSV
A3: Ngày/ Size | B3: TỔNG | C3: Tồn năm trước | D3: 30/6/2017 | E3: 04/7/2017 | F3: 42927 | G3: 42929 | H3: 42933 | I3: 42935 | J3: 42936 | K3: 42940 | L3: 42941 | M3: 42942 | N3: 42944 | O3: 42950 | P3: 7/8/2017 | Q3: 8/8/2017 | R3: 42971 | S3: 42972 | T3: 01/9/2017 | U3: 42984 | V3: 42989 | W3: 42991 | X3: 42998 | Y3: 43000 | Z3: 43004 | AA3: 43007 | AB3: 9/10/2017 | AC3: 43022 | AD3: 43034
A4: Tổng cộng | B4: =B5+B17 -> 5240 | C4: =C5+C17 -> 702 | D4: =D5+D17 -> 294 | E4: =E5+E17 -> 197 | F4: =F5+F17 -> 246 | G4: =G5+G17 -> 47 | H4: =H5+H17 -> 102 | I4: =I5+I17 -> 189 | ... AH4: =AH5+AH17 -> 5102
A5: NAM | B5: =SUM(C5:AD5) -> 4772 | C5: =SUM(C6:C16) -> 577 | D5: =SUM(D6:D16) -> 294 | E5: =SUM(E6:E16) -> 197 | F5: =SUM(F6:F16) -> 246 | G5: =SUM(G6:G16) -> 47 | H5: =SUM(H6:H16) -> 102 | I5: =SUM(I6:I16) -> 189 | J5: =SUM(J6:J16) -> 131 | ... AH5: =SUM(AH6:AH16) -> 4654
A6: C3 | B6: =SUM(C6:AD6) -> 293 | C6: 52 | E6: 47 | G6: 47 | J6: 71 | Y6: 3 | AA6: 3 | AB6: 70 | AH6: =B6+B7 -> 1017
A7: C3D | B7: =SUM(C7:AD7) -> 724 | F7: 150 | H7: 62 | R7: 68 | U7: 84 | Y7: 81 | AB7: 82 | AC7: 71 | AD7: 126
A8: C4 | B8: =SUM(C8:AD8) -> 1291 | C8: 59 | D8: 144 | I8: 150 | J8: 60 | L8: =71+100 -> 171 | M8: 46 | N8: 60 | O8: 70 | S8: 69 | W8: 40 | X8: 101 | Y8: 102 | Z8: 2 | AB8: 71 | AC8: 71 | AD8: 75 | AH8: =B8+B9 -> 1424
A9: C4D | B9: =SUM(C9:AD9) -> 133 | U9: 54 | Z9: 78 | AA9: 1
A10: C5 | B10: =SUM(C10:AD10) -> 782 | C10: 142 | F10: 75 | N10: 72 | P10: 52 | S10: 69 | W10: 71 | Y10: 41 | Z10: 42 | AA10: 1 | AB10: 71 | AC10: 71 | AD10: 75 | AH10: =B10+B11+B12 -> 1700
A11: C5D | B11: =SUM(C11:AD11) -> 147 | C11: 93 | U11: 54
A12: C6 | B12: =SUM(C12:AD12) -> 771 | C12: 121 | E12: 150 | F12: 6 | P12: 52 | R12: 68 | U12: 84 | X12: 63 | Z12: 42 | AA12: 40 | AC12: 70 | AD12: 75
A13: C7 | B13: =SUM(C13:AD13) -> 315 | C13: 40 | D13: 150 | F13: 15 | H13: 20 | T13: 52 | W13: 38 | AH13: =B13+B14+B16 -> 513
A14: C8 | B14: =SUM(C14:AD14) -> 148 | C14: 39 | H14: 20 | K14: 37 | T14: 52
A15: C9 | B15: =SUM(C15:AD15) -> 118 | C15: 31 | I15: 20 | K15: 37 | V15: 30
A16: C10 | B16: =SUM(C16:AD16) -> 50 | I16: 19 | N16: 1 | V16: 30
A17: NỮ | B17: =SUM(C17:AD17) -> 468 | C17: =SUM(C18:C26) -> 125 | D17: =SUM(D18:D26) -> 0 | E17: =SUM(E18:E26) -> 0 | F17: =SUM(F18:F26) -> 0 | G17: =SUM(G18:G26) -> 0 | H17: =SUM(H18:H26) -> 0 | I17: =SUM(I18:I26) -> 0 | J17: =SUM(J18:J26) -> 0 | ... AD17: =SUM(AD18:AD26) -> 0 | AG17: =SUM(AG18:AG26) -> 0 | AH17: =SUM(AH18:AH25) -> 448
A18: C2 | B18: =SUM(C18:AD18) -> 26 | C18: 2 | Q18: 20 | Y18: 2 | AA18: 2 | AH18: =B18+B19+B20+B21+B22+B23 -> 330
A19: C2D | B19: =SUM(C19:AD19) -> 62 | Q19: 30 | Y19: 31 | AA19: 1
A20: C3 | B20: =SUM(C20:AD20) -> 91 | Q20: 60 | Y20: 30 | AA20: 1
A21: C3H | B21: =SUM(C21:AD21) -> 91 | C21: 29 | K21: 30 | Y21: 31 | AA21: 1
A22: C3HD | B22: =SUM(C22:AD22) -> 29 | C22: 8 | Q22: 20 | AA22: 1
A23: C3D | B23: =SUM(C23:AD23) -> 31 | C23: 29 | AA23: 2
A24: C4 | B24: =SUM(C24:AD24) -> 83 | C24: 22 | K24: 30 | Y24: 30 | AA24: 1 | AH24: =B24+B25 -> 118
A25: C4D | B25: =SUM(C25:AD25) -> 35 | C25: 35
A26: C5 | B26: =SUM(C26:AD26) -> 20 | Q26: 20

Sheet Da nop KT
A1: BẢNG KÊ NỘP TIỀN VÀO PHÒNG KẾ HOẠCH - TÀI CHÍNH
A3: TT | B3: Ngày nộp | C3: Số phiếu thu | D3: Số tiền | E3: Áo nam | G3: Áo nữ | I3: Áo xanh nam C3 | K3: Áo xanh nam C4 | M3: Áo xanh nam C5,6 | O3: Áo xanh nam C7,8,9 | Q3: Áo xanh nữ C2,3 | S3: Áo xanh nữ C4,5 | U3: TD S,M | W3: TD L.XL.2XL | Y3: TD 3XL, 4XL, 5XL
E4: Số lượng | F4: Thành tiền | G4: Số lượng | H4: Thành tiền | I4: Số lượng | J4: Thành tiền | K4: Số lượng | L4: Thành tiền | M4: Số lượng | N4: Thành tiền | O4: Số lượng | P4: Thành tiền | Q4: Số lượng | R4: Thành tiền | S4: Số lượng | T4: Thành tiền | U4: Số lượng | V4: Thành tiền | W4: Số lượng | X4: Thành tiền | Y4: Số lượng | Z4: Thành tiền | AC4: TD
A5: 1 | B5: 23/6/2017 | C5: T/K/06026 | D5: =F5+H5+J5+L5+N5+P5+R5+T5+V5+X5+Z5 -> 84654000 | E5: 330 | F5: =E5*135000 -> 44550000 | G5: 31 | H5: =G5*127000 -> 3937000 | I5: 15 | J5: =I5*135000 -> 2025000 | K5: 47 | L5: =K5*140000 -> 6580000 | M5: 60 | N5: =M5*145000 -> 8700000 | O5: 20 | P5: =O5*150000 -> 3000000 | Q5: 10 | R5: =Q5*130000 -> 1300000 | S5: 3 | T5: =S5*135000 -> 405000 | U5: 34 | V5: =U5*138000 -> 4692000 | W5: 30 | X5: =W5*145000 -> 4350000 | Y5: 31 | Z5: =Y5*165000 -> 5115000 | AA5: =SUM(E5:E9)+6 -> 1748 | AB5: =SUM(O5:O9)+2 -> 87 | AC5: =SUM(U8:U9) -> 58
A6: 2 | B6: 04/7/2017 | C6: T/K/07004 | D6: =F6+H6+J6+L6+N6+P6+R6+T6+V6+X6+Z6 -> 94308000 | E6: 379 | F6: =E6*135000 -> 51165000 | G6: 60 | H6: =G6*127000 -> 7620000 | I6: 14 | J6: =I6*135000 -> 1890000 | K6: 34 | L6: =K6*140000 -> 4760000 | M6: 82 | N6: =M6*145000 -> 11890000 | O6: 25 | P6: =O6*150000 -> 3750000 | Q6: 15 | R6: =Q6*130000 -> 1950000 | S6: 9 | T6: =S6*135000 -> 1215000 | U6: 16 | V6: =U6*138000 -> 2208000 | W6: 3 | X6: =W6*145000 -> 435000 | Y6: 45 | Z6: =Y6*165000 -> 7425000 | AA6: =SUM(G5:G9)+1 -> 245 | AB6: =SUM(Q5:Q9) -> 64 | AC6: =SUM(W8:W9) -> 150
A7: 3 | B7: 10/7/2017 | C7: T/K/07015 | D7: =F7+H7+J7+L7+N7+P7+R7+T7+V7+X7+Z7 -> 95110000 | E7: 407 | F7: =E7*135000 -> 54945000 | G7: 70 | H7: =G7*127000 -> 8890000 | I7: 11 | J7: =I7*135000 -> 1485000 | K7: 53 | L7: =K7*140000 -> 7420000 | M7: 89 | N7: =M7*145000 -> 12905000 | O7: 21 | P7: =O7*150000 -> 3150000 | Q7: 18 | R7: =Q7*130000 -> 2340000 | S7: 5 | T7: =S7*135000 -> 675000 | U7: 0 | V7: =U7*138000 -> 0 | W7: 0 | X7: =W7*145000 -> 0 | Y7: 20 | Z7: =Y7*165000 -> 3300000 | AA7: =SUM(I5:I9)+2 -> 95 | AB7: =SUM(S5:S9)+1 -> 23 | AC7: =SUM(Y8:Y9) -> 34
A8: 4 | B8: 42928 | C8: T/K/07025 | D8: =F8+H8+J8+L8+N8+P8+R8+T8+V8+X8+Z8 -> 87920000 | E8: 336 | F8: =E8*135000 -> 45360000 | G8: 43 | H8: =G8*127000 -> 5461000 | I8: 23 | J8: =I8*135000 -> 3105000 | K8: 48 | L8: =K8*140000 -> 6720000 | M8: 71 | N8: =M8*145000 -> 10295000 | O8: 11 | P8: =O8*150000 -> 1650000 | Q8: 11 | R8: =Q8*130000 -> 1430000 | S8: 2 | T8: =S8*135000 -> 270000 | U8: 13 | V8: =U8*138000 -> 1794000 | W8: 60 | X8: =W8*145000 -> 8700000 | Y8: 19 | Z8: =Y8*165000 -> 3135000 | AA8: =SUM(K5:K9)+37 -> 249
A9: 5 | B9: 42930 | C9: T/K/07033 | D9: =F9+H9+J9+L9+N9+P9+R9+T9+V9+X9+Z9 -> 86545000 | E9: 290 | F9: =E9*135000 -> 39150000 | G9: 40 | H9: =G9*127000 -> 5080000 | I9: 30 | J9: =I9*135000 -> 4050000 | K9: 30 | L9: =K9*140000 -> 4200000 | M9: 65 | N9: =M9*145000 -> 9425000 | O9: 8 | P9: =O9*150000 -> 1200000 | Q9: 10 | R9: =Q9*130000 -> 1300000 | S9: 3 | T9: =S9*135000 -> 405000 | U9: 45 | V9: =U9*138000 -> 6210000 | W9: 90 | X9: =W9*145000 -> 13050000 | Y9: 15 | Z9: =Y9*165000 -> 2475000 | AA9: =SUM(M5:M9)+18 -> 385 | AB9: =AA5+AA6+AA7+AA8+AA9+AB5+AB6+AB7+AC5+AC6+AC7 -> 3138
A10: 6 | B10: 42933 | C10: T/K/07039 | D10: =F10+H10+J10+L10+N10+P10+R10+T10+V10+X10+Z10 -> 130385000 | E10: 490 | F10: =E10*135000 -> 66150000 | G10: 35 | H10: =G10*127000 -> 4445000 | I10: 75 | J10: =I10*135000 -> 10125000 | K10: 0 | L10: =K10*140000 -> 0 | M10: 93 | N10: =M10*145000 -> 13485000 | O10: 5 | P10: =O10*150000 -> 750000 | Q10: 0 | R10: =Q10*130000 -> 0 | S10: 6 | T10: =S10*135000 -> 810000 | U10: 55 | V10: =U10*138000 -> 7590000 | W10: 150 | X10: =W10*145000 -> 21750000 | Y10: 32 | Z10: =Y10*165000 -> 5280000 | AA10: =SUM(E10:E11) -> 1110 | AB10: =SUM(I10:I11) -> 190 | AC10: =SUM(M10:M11) -> 143 | AD10: =SUM(Q10:Q11) -> 5 | AE10: =SUM(U10:U11) -> 202 | AF10: =SUM(Y10:Y11) -> 62
A11: 7 | B11: 42935 | C11: T/K/07062 | D11: =F11+H11+J11+L11+N11+P11+R11+T11+V11+X11+Z11 -> 182221000 | E11: 620 | F11: =E11*135000 -> 83700000 | G11: 60 | H11: =G11*127000 -> 7620000 | I11: 115 | J11: =I11*135000 -> 15525000 | K11: 20 | L11: =K11*140000 -> 2800000 | M11: 50 | N11: =M11*145000 -> 7250000 | O11: 20 | P11: =O11*150000 -> 3000000 | Q11: 5 | R11: =Q11*130000 -> 650000 | S11: 10 | T11: =S11*135000 -> 1350000 | U11: 147 | V11: =U11*138000 -> 20286000 | W11: 242 | X11: =W11*145000 -> 35090000 | Y11: 30 | Z11: =Y11*165000 -> 4950000 | AA11: =SUM(G10:G11) -> 95 | AB11: =SUM(K10:K11) -> 20 | AC11: =SUM(O10:O11) -> 25 | AD11: =SUM(S10:S11) -> 16 | AE11: =SUM(W10:W11) -> 392 | AF11: =AA10+AA11+AB10+AB11+AC10+AC11+AD10+AD11+AE10+AE11+AF10 -> 2260
A12: 8 | B12: 42937 | C12: T/K/07068 | D12: =F12+H12+J12+L12+N12+P12+R12+T12+V12+X12+Z12 -> 128062000 | E12: 500 | F12: =E12*135000 -> 67500000 | G12: 32 | H12: =G12*127000 -> 4064000 | I12: 61 | J12: =I12*135000 -> 8235000 | K12: 92 | L12: =K12*140000 -> 12880000 | M12: 25 | N12: =M12*145000 -> 3625000 | O12: 17 | P12: =O12*150000 -> 2550000 | R12: =Q12*130000 -> 0 | S12: 3 | T12: =S12*135000 -> 405000 | U12: 56 | V12: =U12*138000 -> 7728000 | W12: 126 | X12: =W12*145000 -> 18270000 | Y12: 17 | Z12: =Y12*165000 -> 2805000 | AA12: =SUM(E12:E18) -> 2253 | AB12: =SUM(Q12:Q18) -> 22
A13: 9 | B13: 42940 | C13: T/K/07074 | D13: =F13+H13+J13+L13+N13+P13+R13+T13+V13+X13+Z13 -> 110654000 | E13: 420 | F13: =E13*135000 -> 56700000 | G13: 35 | H13: =G13*127000 -> 4445000 | I13: 15 | J13: =I13*135000 -> 2025000 | K13: 89 | L13: =K13*140000 -> 12460000 | M13: 30 | N13: =M13*145000 -> 4350000 | O13: 10 | P13: =O13*150000 -> 1500000 | Q13: 0 | R13: =Q13*130000 -> 0 | S13: 2 | T13: =S13*135000 -> 270000 | U13: 48 | V13: =U13*138000 -> 6624000 | W13: 140 | X13: =W13*145000 -> 20300000 | Y13: 12 | Z13: =Y13*165000 -> 1980000 | AA13: =SUM(G12:G18) -> 248 | AB13: =SUM(S12:S18) -> 12
A14: 10 | B14: 42941 | C14: T/K/07076 | D14: =F14+H14+J14+L14+N14+P14+R14+T14+V14+X14+Z14 -> 54437000 | E14: 227 | F14: =E14*135000 -> 30645000 | G14: 28 | H14: =G14*127000 -> 3556000 | I14: 0 | J14: =I14*135000 -> 0 | K14: 4 | L14: =K14*140000 -> 560000 | M14: 26 | N14: =M14*145000 -> 3770000 | O14: 7 | P14: =O14*150000 -> 1050000 | Q14: 2 | R14: =Q14*130000 -> 260000 | S14: 0 | T14: =S14*135000 -> 0 | U14: 32 | V14: =U14*138000 -> 4416000 | W14: 52 | X14: =W14*145000 -> 7540000 | Y14: 16 | Z14: =Y14*165000 -> 2640000 | AA14: =SUM(I12:I18) -> 146 | AB14: =SUM(U12:U18) -> 313
A15: 11 | B15: 42943 | C15: T/K/07084 | D15: =F15+H15+J15+L15+N15+P15+R15+T15+V15+X15+Z15 -> 77903000 | E15: 331 | F15: =E15*135000 -> 44685000 | G15: 40 | H15: =G15*127000 -> 5080000 | I15: 1 | J15: =I15*135000 -> 135000 | K15: 40 | L15: =K15*140000 -> 5600000 | M15: 0 | N15: =M15*145000 -> 0 | O15: 18 | P15: =O15*150000 -> 2700000 | Q15: 5 | R15: =Q15*130000 -> 650000 | S15: 2 | T15: =S15*135000 -> 270000 | U15: 51 | V15: =U15*138000 -> 7038000 | W15: 81 | X15: =W15*145000 -> 11745000 | Y15: 0 | Z15: =Y15*165000 -> 0 | AA15: =SUM(K12:K18) -> 367 | AB15: =SUM(W12:W18) -> 595
A16: 12 | B16: 42947 | C16: T/K/07094 | D16: =F16+H16+J16+L16+N16+P16+R16+T16+V16+X16+Z16 -> 102754000 | E16: 399 | F16: =E16*135000 -> 53865000 | G16: 36 | H16: =G16*127000 -> 4572000 | I16: 69 | J16: =I16*135000 -> 9315000 | K16: 71 | L16: =K16*140000 -> 9940000 | M16: 25 | N16: =M16*145000 -> 3625000 | O16: 26 | P16: =O16*150000 -> 3900000 | Q16: 7 | R16: =Q16*130000 -> 910000 | S16: 1 | T16: =S16*135000 -> 135000 | U16: 34 | V16: =U16*138000 -> 4692000 | W16: 70 | X16: =W16*145000 -> 10150000 | Y16: 10 | Z16: =Y16*165000 -> 1650000 | AA16: =SUM(M12:M18) -> 149 | AB16: =SUM(Y12:Y18) -> 77 | AC16: =SUM(AB14:AB16) -> 985
A17: 13 | B17: 03/8/2017 | C17: T/K/08005 | D17: =F17+H17+J17+L17+N17+P17+R17+T17+V17+X17+Z17 -> 73402000 | E17: 213 | F17: =E17*135000 -> 28755000 | G17: 52 | H17: =G17*127000 -> 6604000 | I17: 0 | J17: =I17*135000 -> 0 | K17: 52 | L17: =K17*140000 -> 7280000 | M17: 32 | N17: =M17*145000 -> 4640000 | O17: 13 | P17: =O17*150000 -> 1950000 | Q17: 5 | R17: =Q17*130000 -> 650000 | S17: 3 | T17: =S17*135000 -> 405000 | U17: 51 | V17: =U17*138000 -> 7038000 | W17: 87 | X17: =W17*145000 -> 12615000 | Y17: 21 | Z17: =Y17*165000 -> 3465000 | AA17: =SUM(O12:O18) -> 97
A18: 14 | B18: 04/8/2017 | C18: T/K/08011 | D18: =F18+H18+J18+L18+N18+P18+R18+T18+V18+X18+Z18 -> 42338000 | E18: 163 | F18: =E18*135000 -> 22005000 | G18: 25 | H18: =G18*127000 -> 3175000 | J18: =I18*135000 -> 0 | K18: 19 | L18: =K18*140000 -> 2660000 | M18: 11 | N18: =M18*145000 -> 1595000 | O18: 6 | P18: =O18*150000 -> 900000 | Q18: 3 | R18: =Q18*130000 -> 390000 | S18: 1 | T18: =S18*135000 -> 135000 | U18: 41 | V18: =U18*138000 -> 5658000 | W18: 39 | X18: =W18*145000 -> 5655000 | Y18: 1 | Z18: =Y18*165000 -> 165000 | AA18: =SUM(AA12:AA17)+SUM(AB12:AB16) -> 4279 | AB18: =AA12+AA13+AA14+AA15+AA16+AA17+AB12+AB13+AB14+AB15+AB16 -> 4279
A19: 15 | B19: 42955 | C19: T/K/08016 | D19: =F19+H19+J19+L19+N19+P19+R19+T19+V19+X19+Z19 -> 65625000 | E19: 212 | F19: =E19*135000 -> 28620000 | G19: 50 | H19: =G19*127000 -> 6350000 | I19: 0 | J19: =I19*135000 -> 0 | K19: 66 | L19: =K19*140000 -> 9240000 | M19: 37 | N19: =M19*145000 -> 5365000 | O19: 20 | P19: =O19*150000 -> 3000000 | Q19: 4 | R19: =Q19*130000 -> 520000 | S19: 2 | T19: =S19*135000 -> 270000 | U19: 0 | V19: =U19*138000 -> 0 | W19: 80 | X19: =W19*145000 -> 11600000 | Y19: 4 | Z19: =Y19*165000 -> 660000 | AA19: =SUM(E19:E24) -> 1669 | AB19: =SUM(O19:O24) -> 107 | AC19: =SUM(Y19:Y24) -> 103
A20: 16 | B20: 11/8/2017 | C20: T/K/08023 | D20: =F20+H20+J20+L20+N20+P20+R20+T20+V20+X20+Z20 -> 61956000 | E20: 246 | F20: =E20*135000 -> 33210000 | G20: 38 | H20: =G20*127000 -> 4826000 | I20: 0 | J20: =I20*135000 -> 0 | K20: 75 | L20: =K20*140000 -> 10500000 | M20: 27 | N20: =M20*145000 -> 3915000 | O20: 15 | P20: =O20*150000 -> 2250000 | Q20: 6 | R20: =Q20*130000 -> 780000 | S20: 5 | T20: =S20*135000 -> 675000 | U20: 0 | V20: =U20*138000 -> 0 | W20: 40 | X20: =W20*145000 -> 5800000 | Y20: 0 | Z20: =Y20*165000 -> 0 | AA20: =SUM(G19:G24) -> 234 | AB20: =SUM(Q19:Q24) -> 47 | AC20: =AB22+AB23+AC19 -> 855 | AE20: =AA18+AA24+AA30 -> 10664
A21: 17 | B21: 42962 | C21: T/K/08025 | D21: =F21+H21+J21+L21+N21+P21+R21+T21+V21+X21+Z21 -> 59320000 | E21: 245 | F21: =E21*135000 -> 33075000 | G21: 32 | H21: =G21*127000 -> 4064000 | I21: 0 | J21: =I21*135000 -> 0 | K21: 25 | L21: =K21*140000 -> 3500000 | M21: 48 | N21: =M21*145000 -> 6960000 | O21: 6 | P21: =O21*150000 -> 900000 | Q21: 2 | R21: =Q21*130000 -> 260000 | S21: 2 | T21: =S21*135000 -> 270000 | U21: 12 | V21: =U21*138000 -> 1656000 | W21: 55 | X21: =W21*145000 -> 7975000 | Y21: 4 | Z21: =Y21*165000 -> 660000 | AA21: =SUM(I19:I24) -> 67 | AB21: =SUM(S19:S24) -> 28
A22: 18 | B22: 42968 | C22: T/K/08030 | D22: =F22+H22+J22+L22+N22+P22+R22+T22+V22+X22+Z22 -> 167781000 | E22: 738 | F22: =E22*135000 -> 99630000 | G22: 70 | H22: =G22*127000 -> 8890000 | I22: 0 | J22: =I22*135000 -> 0 | K22: 0 | L22: =K22*140000 -> 0 | M22: 9 | N22: =M22*145000 -> 1305000 | O22: 31 | P22: =O22*150000 -> 4650000 | Q22: 19 | R22: =Q22*130000 -> 2470000 | S22: 2 | T22: =S22*135000 -> 270000 | U22: 107 | V22: =U22*138000 -> 14766000 | W22: 190 | X22: =W22*145000 -> 27550000 | Y22: 50 | Z22: =Y22*165000 -> 8250000 | AA22: =SUM(K19:K24) -> 224 | AB22: =SUM(U19:U24) -> 253
A23: 19 | B23: 42975 | C23: T/K/08040 | D23: =F23+H23+J23+L23+N23+P23+R23+T23+V23+X23+Z23 -> 54109000 | E23: 57 | F23: =E23*135000 -> 7695000 | G23: 23 | H23: =G23*127000 -> 2921000 | I23: 50 | J23: =I23*135000 -> 6750000 | K23: 10 | L23: =K23*140000 -> 1400000 | M23: 9 | N23: =M23*145000 -> 1305000 | O23: 22 | P23: =O23*150000 -> 3300000 | Q23: 9 | R23: =Q23*130000 -> 1170000 | S23: 16 | T23: =S23*135000 -> 2160000 | U23: 86 | V23: =U23*138000 -> 11868000 | W23: 81 | X23: =W23*145000 -> 11745000 | Y23: 23 | Z23: =Y23*165000 -> 3795000 | AA23: =SUM(M19:M24) -> 196 | AB23: =SUM(W19:W24) -> 499
A24: 20 | B24: 05/9/2017 | C24: T/K/09001 | D24: =F24+H24+J24+L24+N24+P24+R24+T24+V24+X24+Z24 -> 65271000 | E24: 171 | F24: =E24*135000 -> 23085000 | G24: 21 | H24: =G24*127000 -> 2667000 | I24: 17 | J24: =I24*135000 -> 2295000 | K24: 48 | L24: =K24*140000 -> 6720000 | M24: 66 | N24: =M24*145000 -> 9570000 | O24: 13 | P24: =O24*150000 -> 1950000 | Q24: 7 | R24: =Q24*130000 -> 910000 | S24: 1 | T24: =S24*135000 -> 135000 | U24: 48 | V24: =U24*138000 -> 6624000 | W24: 53 | X24: =W24*145000 -> 7685000 | Y24: 22 | Z24: =Y24*165000 -> 3630000 | AA24: =AA19+AA20+AA21+AA22+AA23+AB19+AB20+AB21+AB22+AB23+AC19 -> 3427
A25: 21 | B25: 08/9/2017 | C25: T/K/09003 | D25: =F25+H25+J25+L25+N25+P25+R25+T25+V25+X25+Z25 -> 87168000 | E25: 227 | F25: =E25*135000 -> 30645000 | G25: 4 | H25: =G25*127000 -> 508000 | I25: 52 | J25: =I25*135000 -> 7020000 | K25: 60 | L25: =K25*140000 -> 8400000 | M25: 74 | N25: =M25*145000 -> 10730000 | O25: 14 | P25: =O25*150000 -> 2100000 | Q25: 7 | R25: =Q25*130000 -> 910000 | S25: 2 | T25: =S25*135000 -> 270000 | U25: 70 | V25: =U25*138000 -> 9660000 | W25: 86 | X25: =W25*145000 -> 12470000 | Y25: 27 | Z25: =Y25*165000 -> 4455000 | AA25: =SUM(E25:E30) -> 738 | AB25: =SUM(O25:O30) -> 75 | AC25: =SUM(Y25:Y30) -> 78
A26: 22 | B26: 42992 | C26: T/K/09009 | D26: =F26+H26+J26+L26+N26+P26+R26+T26+V26+X26+Z26 -> 77271000 | E26: 185 | F26: =E26*135000 -> 24975000 | G26: 24 | H26: =G26*127000 -> 3048000 | I26: 28 | J26: =I26*135000 -> 3780000 | K26: 13 | L26: =K26*140000 -> 1820000 | M26: 85 | N26: =M26*145000 -> 12325000 | O26: 16 | P26: =O26*150000 -> 2400000 | Q26: 13 | R26: =Q26*130000 -> 1690000 | S26: 6 | T26: =S26*135000 -> 810000 | U26: 76 | V26: =U26*138000 -> 10488000 | W26: 86 | X26: =W26*145000 -> 12470000 | Y26: 21 | Z26: =Y26*165000 -> 3465000 | AA26: =SUM(G25:G30) -> 86 | AB26: =SUM(Q25:Q30) -> 51
A27: 23 | B27: 22/9/2017 | C27: T/K/09027 | D27: =F27+H27+J27+L27+N27+P27+R27+T27+V27+X27+Z27 -> 80864000 | E27: 110 | F27: =E27*135000 -> 14850000 | G27: 37 | H27: =G27*127000 -> 4699000 | I27: 45 | J27: =I27*135000 -> 6075000 | K27: 94 | L27: =K27*140000 -> 13160000 | M27: 147 | N27: =M27*145000 -> 21315000 | O27: 18 | P27: =O27*150000 -> 2700000 | Q27: 10 | R27: =Q27*130000 -> 1300000 | S27: 4 | T27: =S27*135000 -> 540000 | U27: 40 | V27: =U27*138000 -> 5520000 | W27: 67 | X27: =W27*145000 -> 9715000 | Y27: 6 | Z27: =Y27*165000 -> 990000 | AA27: =SUM(I25:I30) -> 228 | AB27: =SUM(S25:S30) -> 17
A28: 24 | B28: 43008 | C28: T/K/09039 | D28: =F28+H28+J28+L28+N28+P28+R28+T28+V28+X28+Z28 -> 51990000 | E28: 91 | F28: =E28*135000 -> 12285000 | G28: 5 | H28: =G28*127000 -> 635000 | I28: 33 | J28: =I28*135000 -> 4455000 | K28: 53 | L28: =K28*140000 -> 7420000 | M28: 90 | N28: =M28*145000 -> 13050000 | O28: 13 | P28: =O28*150000 -> 1950000 | Q28: 4 | R28: =Q28*130000 -> 520000 | S28: 0 | T28: =S28*135000 -> 0 | U28: 30 | V28: =U28*138000 -> 4140000 | W28: 44 | X28: =W28*145000 -> 6380000 | Y28: 7 | Z28: =Y28*165000 -> 1155000 | AA28: =SUM(K25:K30) -> 384 | AB28: =SUM(U25:U30) -> 387 | AE28: =AC16+AC20+AC29 -> 2768 | AF28: =AE20-AE28 -> 7896
A29: 25 | B29: 03/10/2017 | C29: T/K/10001 | D29: =F29+H29+J29+L29+N29+P29+R29+T29+V29+X29+Z29 -> 77755000 | E29: 75 | F29: =E29*135000 -> 10125000 | G29: 11 | H29: =G29*127000 -> 1397000 | I29: 70 | J29: =I29*135000 -> 9450000 | K29: 120 | L29: =K29*140000 -> 16800000 | M29: 55 | N29: =M29*145000 -> 7975000 | O29: 6 | P29: =O29*150000 -> 900000 | Q29: 10 | R29: =Q29*130000 -> 1300000 | S29: 2 | T29: =S29*135000 -> 270000 | U29: 76 | V29: =U29*138000 -> 10488000 | W29: 120 | X29: =W29*145000 -> 17400000 | Y29: 10 | Z29: =Y29*165000 -> 1650000 | AA29: =SUM(M25:M30) -> 451 | AB29: =SUM(W25:W30) -> 463 | AC29: =AB28+AB29+AC25 -> 928
A30: 26 | B30: 06/10/2017 | C30: T/K/10003 | D30: =F30+H30+J30+L30+N30+P30+R30+T30+V30+X30+Z30 -> 39025000 | E30: 50 | F30: =E30*135000 -> 6750000 | G30: 5 | H30: =G30*127000 -> 635000 | J30: =I30*135000 -> 0 | K30: 44 | L30: =K30*140000 -> 6160000 | M30: 0 | N30: =M30*145000 -> 0 | O30: 8 | P30: =O30*150000 -> 1200000 | Q30: 7 | R30: =Q30*130000 -> 910000 | S30: 3 | T30: =S30*135000 -> 405000 | U30: 95 | V30: =U30*138000 -> 13110000 | W30: 60 | X30: =W30*145000 -> 8700000 | Y30: 7 | Z30: =Y30*165000 -> 1155000 | AA30: =AA25+AA26+AA27+AA28+AA29+AB25+AB26+AB27+AB28+AB29+AC25 -> 2958
A31: 27 | B31: 43020 | D31: =F31+H31+J31+L31+N31+P31+R31+T31+V31+X31+Z31 -> 43691000 | E31: 46 | F31: =E31*135000 -> 6210000 | G31: 3 | H31: =G31*127000 -> 381000 | I31: 11 | J31: =I31*135000 -> 1485000 | K31: 71 | L31: =K31*140000 -> 9940000 | M31: 79 | N31: =M31*145000 -> 11455000 | O31: 12 | P31: =O31*150000 -> 1800000 | Q31: 3 | R31: =Q31*130000 -> 390000 | S31: 0 | T31: =S31*135000 -> 0 | U31: 0 | V31: =U31*138000 -> 0 | W31: 75 | X31: =W31*145000 -> 10875000 | Y31: 7 | Z31: =Y31*165000 -> 1155000
A32: 28 | D32: =F32+H32+J32+L32+N32+P32+R32+T32+V32+X32+Z32 -> 0 | F32: =E32*135000 -> 0 | H32: =G32*127000 -> 0 | J32: =I32*135000 -> 0 | L32: =K32*140000 -> 0 | N32: =M32*145000 -> 0 | P32: =O32*150000 -> 0 | R32: =Q32*130000 -> 0 | T32: =S32*135000 -> 0 | V32: =U32*138000 -> 0 | X32: =W32*145000 -> 0 | Z32: =Y32*165000 -> 0
A33: 29 | D33: =F33+H33+J33+L33+N33+P33+R33+T33+V33+X33+Z33 -> 0 | F33: =E33*135000 -> 0 | H33: =G33*127000 -> 0 | J33: =I33*135000 -> 0 | L33: =K33*140000 -> 0 | N33: =M33*145000 -> 0 | P33: =O33*150000 -> 0 | R33: =Q33*130000 -> 0 | T33: =S33*135000 -> 0 | V33: =U33*138000 -> 0 | X33: =W33*145000 -> 0 | Z33: =Y33*165000 -> 0
A34: 30 | D34: =F34+H34+J34+L34+N34+P34+R34+T34+V34+X34+Z34 -> 0 | F34: =E34*135000 -> 0 | H34: =G34*127000 -> 0 | J34: =I34*135000 -> 0 | L34: =K34*140000 -> 0 | N34: =M34*145000 -> 0 | P34: =O34*150000 -> 0 | R34: =Q34*130000 -> 0 | T34: =S34*135000 -> 0 | V34: =U34*138000 -> 0 | X34: =W34*145000 -> 0 | Z34: =Y34*165000 -> 0
A35: 31 | D35: =F35+H35+J35+L35+N35+P35+R35+T35+V35+X35+Z35 -> 0 | F35: =E35*135000 -> 0 | H35: =G35*127000 -> 0 | J35: =I35*135000 -> 0 | L35: =K35*140000 -> 0 | N35: =M35*145000 -> 0 | P35: =O35*150000 -> 0 | R35: =Q35*130000 -> 0 | T35: =S35*135000 -> 0 | V35: =U35*138000 -> 0 | X35: =W35*145000 -> 0 | Z35: =Y35*165000 -> 0
A36: 32 | D36: =F36+H36+J36+L36+N36+P36+R36+T36+V36+X36+Z36 -> 0 | F36: =E36*135000 -> 0 | H36: =G36*127000 -> 0 | J36: =I36*135000 -> 0 | L36: =K36*140000 -> 0 | N36: =M36*145000 -> 0 | P36: =O36*150000 -> 0 | R36: =Q36*130000 -> 0 | T36: =S36*135000 -> 0 | V36: =U36*138000 -> 0 | X36: =W36*145000 -> 0 | Z36: =Y36*165000 -> 0
A37: 33 | D37: =F37+H37+J37+L37+N37+P37+R37+T37+V37+X37+Z37 -> 0 | F37: =E37*135000 -> 0 | H37: =G37*127000 -> 0 | J37: =I37*135000 -> 0 | L37: =K37*140000 -> 0 | N37: =M37*145000 -> 0 | P37: =O37*150000 -> 0 | R37: =Q37*130000 -> 0 | T37: =S37*135000 -> 0 | V37: =U37*138000 -> 0 | X37: =W37*145000 -> 0 | Z37: =Y37*165000 -> 0
A38: 34 | D38: =F38+H38+J38+L38+N38+P38+R38+T38+V38+X38+Z38 -> 0 | F38: =E38*135000 -> 0 | H38: =G38*127000 -> 0 | J38: =I38*135000 -> 0 | L38: =K38*140000 -> 0 | N38: =M38*145000 -> 0 | P38: =O38*150000 -> 0 | R38: =Q38*130000 -> 0 | T38: =S38*135000 -> 0 | V38: =U38*138000 -> 0 | X38: =W38*145000 -> 0 | Z38: =Y38*165000 -> 0
A39: 35 | D39: =F39+H39+J39+L39+N39+P39+R39+T39+V39+X39+Z39 -> 0 | F39: =E39*135000 -> 0 | H39: =G39*127000 -> 0 | J39: =I39*135000 -> 0 | L39: =K39*140000 -> 0 | N39: =M39*145000 -> 0 | P39: =O39*150000 -> 0 | R39: =Q39*130000 -> 0 | T39: =S39*135000 -> 0 | V39: =U39*138000 -> 0 | X39: =W39*145000 -> 0 | Z39: =Y39*165000 -> 0
A40: 36 | D40: =F40+H40+J40+L40+N40+P40+R40+T40+V40+X40+Z40 -> 0 | F40: =E40*135000 -> 0 | H40: =G40*127000 -> 0 | J40: =I40*135000 -> 0 | L40: =K40*140000 -> 0 | N40: =M40*145000 -> 0 | P40: =O40*150000 -> 0 | R40: =Q40*130000 -> 0 | T40: =S40*135000 -> 0 | V40: =U40*138000 -> 0 | X40: =W40*145000 -> 0 | Z40: =Y40*165000 -> 0
A41: 26 | D41: =F41+H41+J41+L41+N41+P41+R41+T41+V41+X41+Z41 -> 0 | F41: =E41*135000 -> 0 | H41: =G41*127000 -> 0 | J41: =I41*135000 -> 0 | L41: =K41*140000 -> 0 | N41: =M41*145000 -> 0 | P41: =O41*150000 -> 0 | R41: =Q41*130000 -> 0 | T41: =S41*135000 -> 0 | V41: =U41*138000 -> 0 | X41: =W41*145000 -> 0 | Z41: =Y41*165000 -> 0
...

Sheet Nhap-xuat-ton
A1: BẢNG THỐNG KÊ SỐ NHẬP - XUẤT - TỒN KHO
A3: TT | B3: ÁO TRẮNG | F3: ÁO XANH | J3: THỂ DỤC
B4: SIZE | C4: NHẬP | D4: XUẤT | E4: TỒN | F4: SIZE | G4: NHẬP | H4: XUẤT | I4: TỒN | J4: SIZE | K4: NHẬP | L4: XUẤT | M4: TỒN
B5: ÁO NAM | C5: ='Nhap ao trang'!B5 -> 9149 | D5: ='Da nop KT'!E53 -> 7558 | E5: =C5-D5 -> 1591 | F5: C3 nam | G5: ='Ao xanh'!B6+'Ao xanh'!B7 -> 1017 | H5: ='Da nop KT'!I53 -> 735 | I5: =G5-H5 -> 282 | J5: S, M | K5: ='TD C Thuận'!B5+'TD C Thuận'!B6 -> 50 | L5: ='Da nop KT'!U5+'Da nop KT'!U6 -> 50 | M5: =K5-L5 -> 0
B6: ÁO NỮ | C6: ='Nhap ao trang'!B20 -> 1055 | D6: ='Da nop KT'!G53 -> 910 | E6: =C6-D6 -> 145 | F6: C4 nam | G6: ='Ao xanh'!B8+'Ao xanh'!B9 -> 1424 | H6: ='Da nop KT'!K53 -> 1278 | I6: =G6-H6 -> 146 | J6: L, XL, 2XL | K6: ='TD C Thuận'!B8+'TD C Thuận'!B9+'TD C Thuận'!B7 -> 48 | L6: ='Da nop KT'!W5+'Da nop KT'!W6 -> 33 | M6: =K6-L6 -> 15 | N6: tồn 15 bộ sai chữ
E7: =C7-D7 -> 0 | F7: C5, C6 nam | G7: ='Ao xanh'!B10+'Ao xanh'!B11+'Ao xanh'!B12 -> 1700 | H7: ='Da nop KT'!M53 -> 1385 | I7: =G7-H7 -> 315 | J7: 3XL, 4XL, 5XL | K7: ='TD C Thuận'!B10+'TD C Thuận'!B11+'TD C Thuận'!B12 -> 97 | L7: ='Da nop KT'!Y5+'Da nop KT'!Y6+'Da nop KT'!Y7 -> 96 | M7: =K7-L7 -> 1 | N7: tồn 1 bộ dơ
F8: C7, C8, C9,C10 nam | G8: ='Ao xanh'!B13+'Ao xanh'!B14+'Ao xanh'!B15+'Ao xanh'!B16 -> 631 | H8: ='Da nop KT'!O53 -> 401 | I8: =G8-H8 -> 230
F9: C2, C3 nữ | G9: ='Ao xanh'!B18+'Ao xanh'!B19+'Ao xanh'!B20+'Ao xanh'!B21+'Ao xanh'!B22+'Ao xanh'!B23 -> 330 | H9: ='Da nop KT'!Q53 -> 192 | I9: =G9-H9 -> 138 | J9: S, M | K9: ='TD C Hoàng'!B5+'TD C Hoàng'!B6 -> 1460 | L9: ='Da nop KT'!U53-50 -> 1213 | M9: =K9-L9 -> 247
F10: C4, C5 nữ | G10: ='Ao xanh'!B24+'Ao xanh'!B25+'Ao xanh'!B26 -> 138 | H10: ='Da nop KT'!S53 -> 95 | I10: =G10-H10 -> 43 | J10: L, XL, 2XL | K10: ='TD C Hoàng'!B7+'TD C Hoàng'!B8+'TD C Hoàng'!B9 -> 2391 | L10: ='Da nop KT'!W53-33 -> 2174 | M10: =K10-L10 -> 217
G11: =SUM(G5:G10) -> 5240 | H11: =SUM(H5:H10) -> 4086 | J11: 3XL, 4XL, 5XL | K11: ='TD C Hoàng'!B10+'TD C Hoàng'!B11+'TD C Hoàng'!B12 -> 513 | L11: ='Da nop KT'!Y53-96 -> 361 | M11: =K11-L11 -> 152
K12: =SUM(K9:K11) -> 4364 | L12: =SUM(L9:L11) -> 3748 | M12: =SUM(M9:M11) -> 616

Sheet ke nop tien
A1: TRƯỜNG CAO ĐẲNG LÝ TỰ TRỌNG TP.HCM | D1: CỘNG HOÀ XÃ HỘI CHỦ NGHĨA VIỆT NAM
A2: PHÒNG CÔNG TÁC CHÍNH TRỊ | D2: Độc lập - Tự do - Hạnh phúc
A3: - HỌC SINH SINH VIÊN
D5: TP. Hồ Chí Minh, ngày 02 tháng 11 năm 2017
A7: BẢNG KÊ NỘP TIỀN BÁN ĐỒNG PHỤC HSSV
A8: TỪ NGÀY 13/10/2017 ĐẾN NGÀY 02/11/2017
A10: TT | B10: Loại đồng phục | C10: ĐVT | D10: Số lượng | E10: Đơn giá | F10: Thành tiền | G10: Ghi chú
A11: 1 | B11: Áo trắng nam | C11: Cái | D11: 61 | E11: 135000 | F11: =D11*E11 -> 8235000
A12: 2 | B12: Áo trắng nữ | C12: Cái | D12: 1 | E12: 127000 | F12: =D12*E12 -> 127000
A13: 3 | B13: Áo thực hành nam size C3 | C13: Cái | D13: 74 | E13: 135000 | F13: =D13*E13 -> 9990000
A14: 4 | B14: Áo thực hành nam size C4 | C14: Cái | D14: 78 | E14: 140000 | F14: =D14*E14 -> 10920000 | I14: =500*217 -> 108500
A15: 5 | B15: Áo thực hành nam size C5,6 | C15: Cái | D15: 89 | E15: 145000 | F15: =D15*E15 -> 12905000 | I15: =200*196 -> 39200
A16: 6 | B16: Áo thực hành nam size C7,8,9 | C16: Cái | D16: 15 | E16: 150000 | F16: =D16*E16 -> 2250000 | I16: =100*291 -> 29100
A17: 7 | B17: Áo thực hành nữ size C2,3 | C17: Cái | D17: 2 | E17: 130000 | F17: =D17*E17 -> 260000 | I17: =50*109 -> 5450
A18: 8 | B18: Áo thực hành nữ size C4,5 | C18: Cái | D18: 2 | E18: 135000 | F18: =D18*E18 -> 270000 | I18: =SUM(I14:I17) -> 182250
A19: 9 | B19: Đồ thể dục size S, M, | C19: Bộ | D19: 69 | E19: 138000 | F19: =D19*E19 -> 9522000
A20: 10 | B20: Đồ thể dục size L, XL, XXL | C20: Bộ | D20: 39 | E20: 145000 | F20: =D20*E20 -> 5655000
A21: 11 | B21: Đồ thể dục size 3XL, 4XL, 5XL | C21: Bộ | D21: 9 | E21: 165000 | F21: =D21*E21 -> 1485000
B22: Tổng cộng | F22: =SUM(F11:F21) -> 61619000
A24: Số tiền bằng chữ: (Sáu mươi mốt triệu sáu trăm mười chín nghìn đồng)
B26: PHÓ TRƯỞNG PHÒNG | F26: Người nộp tiền
B32: Hoàng Ngọc Cảnh | F32: Nguyễn Thị Kim Anh

Sheet Sheet2
A1: BẢNG TỔNG HỢP NHẬP KHO ĐỒNG PHỤC NĂM HỌC 2017-2018
A2: Đến ngày 14/8/2017
A4: TT | B4: LOẠI ĐỒNG PHỤC | C4: SỐ LƯỢNG NHẬP KHO | D4: ĐÃ BÁN VÀ NỘP TIỀN | E4: TỒN KHO | F4: GHI CHÚ
A5: I | B5: Áo trắng | C5: =SUM(C6:C7) -> 10204 | D5: =SUM(D6:D7) -> 8468 | E5: =SUM(E6:E7) -> 1736
A6: 1 | B6: Áo trắng nam | C6: ='Nhap ao trang'!B5 -> 9149 | D6: ='Da nop KT'!E53 -> 7558 | E6: =C6-D6 -> 1591
A7: 2 | B7: Áo trắng nữ | C7: ='Nhap ao trang'!B20 -> 1055 | D7: ='Da nop KT'!G53 -> 910 | E7: =C7-D7 -> 145
A8: II | B8: Áo xanh | C8: =C9+C14 -> 5240 | D8: =D9+D14 -> 4086 | E8: =E9+E14 -> 1154
A9: 1 | B9: Áo xanh nam | C9: =SUM(C10:C13) -> 4772 | D9: =SUM(D10:D13) -> 3799 | E9: =SUM(E10:E13) -> 973
B10: C3 nam | C10: ='Ao xanh'!B6+'Ao xanh'!B7 -> 1017 | D10: ='Da nop KT'!I53 -> 735 | E10: =C10-D10 -> 282
B11: C4 nam | C11: ='Ao xanh'!B8+'Ao xanh'!B9 -> 1424 | D11: ='Da nop KT'!K53 -> 1278 | E11: =C11-D11 -> 146
B12: C5, C6 nam | C12: ='Ao xanh'!B10+'Ao xanh'!B11+'Ao xanh'!B12 -> 1700 | D12: ='Da nop KT'!M53 -> 1385 | E12: =C12-D12 -> 315
B13: C7, C8, C9, C10 | C13: ='Ao xanh'!B13+'Ao xanh'!B14+'Ao xanh'!B15+'Ao xanh'!B16 -> 631 | D13: ='Da nop KT'!O53 -> 401 | E13: =C13-D13 -> 230
A14: 2 | B14: Áo xanh nữ | C14: =SUM(C15:C16) -> 468 | D14: =SUM(D15:D16) -> 287 | E14: =SUM(E15:E16) -> 181
B15: C2, C3 nữ | C15: ='Ao xanh'!B18+'Ao xanh'!B19+'Ao xanh'!B20+'Ao xanh'!B21+'Ao xanh'!B22+'Ao xanh'!B23 -> 330 | D15: ='Da nop KT'!Q53 -> 192 | E15: =C15-D15 -> 138
B16: C4, C5 nữ | C16: ='Ao xanh'!B24+'Ao xanh'!B25+'Ao xanh'!B26 -> 138 | D16: ='Da nop KT'!S53 -> 95 | E16: =C16-D16 -> 43
A17: III | B17: Đồ thể dục | C17: =SUM(C18:C20) -> 4364 | D17: =SUM(D18:D20) -> 3748 | E17: =SUM(E18:E20) -> 616
B18: Size S, M | C18: ='TD C Hoàng'!B5+'TD C Hoàng'!B6 -> 1460 | D18: ='Da nop KT'!U53-50 -> 1213 | E18: =C18-D18 -> 247
B19: Size L, XL, 2XL | C19: ='TD C Hoàng'!B7+'TD C Hoàng'!B8+'TD C Hoàng'!B9 -> 2391 | D19: ='Da nop KT'!W53-33 -> 2174 | E19: =C19-D19 -> 217
B20: Size 3XL, 4XL, 5XL | C20: ='TD C Hoàng'!B10+'TD C Hoàng'!B11+'TD C Hoàng'!B12 -> 513 | D20: ='Da nop KT'!Y53-96 -> 361 | E20: =C20-D20 -> 152

Sheet Sheet3
A1: Áo nam 135k | B1: Áo nữ 127k | C1: Thể dục S, M, L 137,5k | D1: Thể dục XL, XXL 143k | E1: Thể dục 3XL, 4XL, 5XL 165k | F1: Áo nam 135k | G1: Áo nữ 127k | H1: Thể dục S, M, L 137,5k | I1: Thể dục XL, XXL 143k | J1: Thể dục 3XL, 4XL, 5XL 165k

Sheet Sheet3 (2)
A1: Áo trắng nam 135.000 | B1: Áo trắng nữ 127.000 | C1: Áo xanh nam C2, C3 135.000 | D1: Áo xanh nam C4 140.000 | E1: Áo xanh nam C5, C6 145.000 | F1: Áo xanh nam C7, C8, C9 150.000 | G1: Áo xanh Nữ C2, C3 130.000 | H1: Áo xanh Nữ C4, C5 135.000 | I1: Đồ Thể dục S, M 138.000 | J1: Đồ Thể dục L, XL, 2XL 145.000 | K1: Đồ Thể dục 3XL, 4XL, 5XL 165.000
A36: Áo trắng nam 135.000 | B36: Áo trắng nữ 127.000 | C36: Áo xanh nam C2, C3 135.000 | D36: Áo xanh nam C4 140.000 | E36: Áo xanh nam C5, C6 145.000 | F36: Áo xanh nam C7, C8, C9 150.000 | G36: Áo xanh Nữ C2, C3 130.000 | H36: Áo xanh Nữ C4, C5 135.000 | I36: Đồ Thể dục S, M 138.000 | J36: Đồ Thể dục L, XL, 2XL 145.000 | K36: Đồ Thể dục 3XL, 4XL, 5XL 165.000

Sheet Sheet4

Sheet Sheet5
